BEGIN:VCALENDAR
VERSION:2.0
PRODID:-//Ulysses Members RV Group - ECPv6.15.20//NONSGML v1.0//EN
CALSCALE:GREGORIAN
METHOD:PUBLISH
X-ORIGINAL-URL:https://ulyssesrv.org
X-WR-CALDESC:Events for Ulysses Members RV Group
REFRESH-INTERVAL;VALUE=DURATION:PT1H
X-Robots-Tag:noindex
X-PUBLISHED-TTL:PT1H
BEGIN:VTIMEZONE
TZID:Australia/Melbourne
BEGIN:STANDARD
TZOFFSETFROM:+1100
TZOFFSETTO:+1000
TZNAME:AEST
DTSTART:20250405T160000
END:STANDARD
BEGIN:DAYLIGHT
TZOFFSETFROM:+1000
TZOFFSETTO:+1100
TZNAME:AEDT
DTSTART:20251004T160000
END:DAYLIGHT
BEGIN:STANDARD
TZOFFSETFROM:+1100
TZOFFSETTO:+1000
TZNAME:AEST
DTSTART:20260404T160000
END:STANDARD
BEGIN:DAYLIGHT
TZOFFSETFROM:+1000
TZOFFSETTO:+1100
TZNAME:AEDT
DTSTART:20261003T160000
END:DAYLIGHT
BEGIN:STANDARD
TZOFFSETFROM:+1100
TZOFFSETTO:+1000
TZNAME:AEST
DTSTART:20270403T160000
END:STANDARD
BEGIN:DAYLIGHT
TZOFFSETFROM:+1000
TZOFFSETTO:+1100
TZNAME:AEDT
DTSTART:20271002T160000
END:DAYLIGHT
END:VTIMEZONE
BEGIN:VTIMEZONE
TZID:Australia/Adelaide
BEGIN:STANDARD
TZOFFSETFROM:+1030
TZOFFSETTO:+0930
TZNAME:ACST
DTSTART:20250405T163000
END:STANDARD
BEGIN:DAYLIGHT
TZOFFSETFROM:+0930
TZOFFSETTO:+1030
TZNAME:ACDT
DTSTART:20251004T163000
END:DAYLIGHT
BEGIN:STANDARD
TZOFFSETFROM:+1030
TZOFFSETTO:+0930
TZNAME:ACST
DTSTART:20260404T163000
END:STANDARD
BEGIN:DAYLIGHT
TZOFFSETFROM:+0930
TZOFFSETTO:+1030
TZNAME:ACDT
DTSTART:20261003T163000
END:DAYLIGHT
BEGIN:STANDARD
TZOFFSETFROM:+1030
TZOFFSETTO:+0930
TZNAME:ACST
DTSTART:20270403T163000
END:STANDARD
BEGIN:DAYLIGHT
TZOFFSETFROM:+0930
TZOFFSETTO:+1030
TZNAME:ACDT
DTSTART:20271002T163000
END:DAYLIGHT
END:VTIMEZONE
BEGIN:VTIMEZONE
TZID:Australia/Brisbane
BEGIN:STANDARD
TZOFFSETFROM:+1000
TZOFFSETTO:+1000
TZNAME:AEST
DTSTART:20250101T000000
END:STANDARD
END:VTIMEZONE
BEGIN:VEVENT
DTSTART;VALUE=DATE:20261007
DTEND;VALUE=DATE:20261013
DTSTAMP:20260420T170654
CREATED:20260106T043725Z
LAST-MODIFIED:20260106T050026Z
UID:1402-1791331200-1791849599@ulyssesrv.org
SUMMARY:Vic - Tag-a-Long to Broken Hill & Beyond  (Expressions of Interest Required)
DESCRIPTION:Flyer 1a \nTag a Long Route1 \n \nBroken Hill 2026  & Beyond (Camerons Corner) \nMonday 7th to Sunday 17th October 2026  & more! \nHi to all Victorian RV members  \nWe hope you all had a great Christmas and wish you all a very happy new year. \nWe know we are getting in early with this one. As you will see once you have read the following information\, this year’s AGM is in Broken Hill. This could be a great opportunity for couple of weeks get away or 4-6 week get away depending on your available time. \nThe 2026 RV AGM in Broken Hill\, NSW starts 12th October and goes through to 17th October. \nWe will be leading a Tag-Along to the AGM leaving on the 7th October 2026 and taking 5 nights to arrive at the AGM site in Broken Hill. As there is NO early access to the AGM camping grounds in Broken Hill until the 12th\, we will be staying approx. 100 km out of town. This means only a short drive in on the Monday morning. \nDepending on total numbers that wish to come along on this journey of a lifetime\, we are planning 4 free camps\, and one caravan park stay on the way up.  \n7th Oct Lexton Club free camp \n8th Wedderburn Hard Hill Tourist reserve \n9th Apex River beach Holiday Park\, Mildura  \n11th Pooncarie Free camp \n12th to 17th Broken hill Regional Event centre & Racecourse \nNow this is where it gets interesting. Once rally is over there are a few options: \n\nMake your own way home \nContinue your travels seeing this fantastic country OR\nCome with Su and I up to Tibooburra for a couple of nights\, with a day trip up to Camerons Corner for lunch (Leaving vans in caravan park) and to touch the 3-state marker SA. QLD and NSW\n\nThere are a Couple of RV members planning to do this section then head home for Tibooburra. \nBut there’s more: \nSu and I will be taking the longer way home and be on the road for the next 3 – 4 weeks (that part of trip is still to be finalized. Again\, it depends on number of vans wishing to join us). \nWe have attached the proposed schedule for your thoughts. The dates prior to AGM are pretty set but after AGM they are still to be finalized. This is just to get your thought processes going and for you to allocate time. \nIf you could please advise ASAP: \n\nIf you are coming along on Tag-Along to AGM \nIf you wish to follow to Cameron Corner (we will probably need to book sites in Tibooburra soon)\nIf you plan on coming on part or all of the after trip.\n\nLooking forward to your responses and hope to see you on the Feb Tag-along that Janice and Fred have in motion. \nCheers David and Su \n0488717711 \ndavidpoyser@bigpond.com  \n 
URL:https://ulyssesrv.org/index.php/event/vic-tag-a-long-to-broken-hill-beyond-expressions-of-interest-required/
LOCATION:Vic Lexton Club Free Camp
CATEGORIES:Victoria
ORGANIZER;CN="Victoria Poysers":MAILTO:Davidpoyser@bigpond.com
END:VEVENT
BEGIN:VEVENT
DTSTART;VALUE=DATE:20261009
DTEND;VALUE=DATE:20261012
DTSTAMP:20260420T170654
CREATED:20251228T054727Z
LAST-MODIFIED:20251228T055631Z
UID:1363-1791504000-1791763199@ulyssesrv.org
SUMMARY:SA - The South Australian Odyssey
DESCRIPTION:*Please note that this is run by the Ulysses SIG SARV Group . You\, or your partner must be a financial member of Ulysses to attend* \nOct 9th – 11th   SA Odyssey at Waikerie \nLocation TBA
URL:https://ulyssesrv.org/index.php/event/sa-the-south-australian-odyssey/
LOCATION:South Australia
CATEGORIES:South Australia (On behalf of SARV Special Interest Ulysses Group
ATTACH;FMTTYPE=image/jpeg:https://ulyssesrv.org/wp-content/uploads/2025/12/SA-Waikerie.jpg
ORGANIZER;CN="Ulysses Club SARV":MAILTO:sarvulysses@gmail.com
END:VEVENT
BEGIN:VEVENT
DTSTART;VALUE=DATE:20261012
DTEND;VALUE=DATE:20261020
DTSTAMP:20260420T170654
CREATED:20251107T051153Z
LAST-MODIFIED:20260418T041721Z
UID:1306-1791763200-1792454399@ulyssesrv.org
SUMMARY:National Rally - Broken Hill NSW
DESCRIPTION:Our 2026 National Rally will be held in Broken Hill from Monday 12th to Monday 19th October 2026. Note that there will not be any early access to the Rally site\, due the location prior to Monday! You can stay at other locations around Broken Hill and move into the site on the Monday morning.\nNOTE! DO NOT BOOK THE CAMPGROUND! WE ARE USING A SEPARATE AREA OF THE RACECOURSE!\n\n\nLocation : Broken Hill Racecourse centre ring \n\n\n\nWhen : 12th to 19th October 2026 \n\n\n\nCost : $40 p/n including amenities\, power and water. Pay at registration. \n\n\n Broken Hill is about as far west as you can go before hitting the NSW border\, a legendary outback town.(A Tip! Broken Hill runs on SA time!) \n\n It’s the heartland of mining\, icons like Priscilla queen of the desert and Pro Hart. Discover the unexpected\, the galleries\, the pubs\, a town that isn’t afraid to break creative rules. \n\n Take the Broken Hill town heritage walk. \n\n Have a look at the Line of Lode miners’ memorial. \n\n Take a photo at the ‘Big Bench’. \n\n Visit Albort Kersten mining and mineral museum. \n\n See the Royal Flying Doctor Service. \n\n Stargazing with Outback Astronomy. \n\n Art Galleries. \n\n Living Desert and Sculptures at sunset (20mins). \n\n Visit Mutawintji National Park historic sites. \n\n Take the Mutawintji cultural tour. \n\n Visit Broken Hill distillery and the many cafes. \n\n And more……….. \n\n\nAdvance Details! \n\n\n\nLocation : Broken Hill Racecourse centre ring \n\n\n\nWhen : 12th to 19th October 2026 \n\n\n\nCost : $40 p/n including amenities\, power and water. Pay at registration. \n\n\n\nActivities (some of these are yet to be confirmed or priced and ALL subject to change!) \n\n\n\nTuesday \n\n\n\n City walking tours 2 hour duration 1 or 2 sessions numbers to be limited and prices to be confirmed and will be paid directly to providers \n\n\n\nLegal  2 up and auction – numbers interested. \n\n\n\nWednesday \n\n\n\nRailway museum. numbers interested – pay at venue $12 or $10 concession holders \n\n\n\n3 x crafts – Earring making- limit 12 people $? \, crocheted facewashers – limit 10 people $?\,  \n\n\n\n(not sure of the third yet) \n\n\n\nBBQ dinner night – haven’t confirmed menu or prices yet. \n\n\n\nThursday \n\n\n\nDay Dream Mine tours – 2 sessions limited to 20 people per session – times for each session 10 to 11.15 and 10.30 to 11.45 price is $33 \n\n\n\nBocce limited to 24 people x 3 sessions  No cost \n\n\n\nFriday \n\n\n\nDrive to Menindee Lakes with guided tour. No limit to numbers but need to know how many. No cost \n\n\n\nSaturday \n\n\n\nGala dinner menu and prices yet to be confirmed \n\n\n\nSunday \n\n\n\nBacon and egg roll breakfast.
URL:https://ulyssesrv.org/index.php/event/national-rally-broken-hill-nsw/
LOCATION:NSW Broken Hill Racecourse\, Broken Hill\, NSW\, 2880\, Australia
CATEGORIES:National,New South Wales
ATTACH;FMTTYPE=image/jpeg:https://ulyssesrv.org/wp-content/uploads/2025/11/NSW-Broken-Hill-1.jpg
ORGANIZER;CN="National Coordinators":MAILTO:admin@ulyssesrv.org
END:VEVENT
BEGIN:VEVENT
DTSTART;VALUE=DATE:20261106
DTEND;VALUE=DATE:20261109
DTSTAMP:20260420T170654
CREATED:20251228T055425Z
LAST-MODIFIED:20251228T055559Z
UID:1366-1793923200-1794182399@ulyssesrv.org
SUMMARY:SA - Wallaroo Holiday Park
DESCRIPTION:*Please note that this is run by the Ulysses SIG SARV Group . You\, or your partner must be a financial member of Ulysses to attend* \nNov 6th – 8th Wallaroo Holiday Park \n1 Pamir Ct\, Wallaroo Phone: (08) 8823 2531 \nFriday evening BYO at the camp kitchen \nSaturday evening Cornucopia Hotel 49 Owen Terrace\, Wallaroo
URL:https://ulyssesrv.org/index.php/event/sa-wallaroo-holiday-park/
LOCATION:SA Wallaroo Holiday Park\, 1 Pamir Ct\, Wallaroo\, South Australia\, 5556
CATEGORIES:South Australia (On behalf of SARV Special Interest Ulysses Group
ATTACH;FMTTYPE=image/jpeg:https://ulyssesrv.org/wp-content/uploads/2025/12/SA-Wallaroo-Holiday-Park.jpg
ORGANIZER;CN="Ulysses Club SARV":MAILTO:sarvulysses@gmail.com
END:VEVENT
BEGIN:VEVENT
DTSTART;VALUE=DATE:20261203
DTEND;VALUE=DATE:20261207
DTSTAMP:20260420T170654
CREATED:20250918T072859Z
LAST-MODIFIED:20260221T052805Z
UID:1257-1796256000-1796601599@ulyssesrv.org
SUMMARY:QLD - Woodford Showgrounds
DESCRIPTION:Woodford Showgrounds\,  Neurum Road    Woodford 4514  Staying 3 nights. \nContact for bookings   m. 0437390862 \nChristmas Dinner – Evening Meal\, Saturday 5th December \nWoodford Hotel\, \n81 Archer St\, Woodford QLD 4514 \n 
URL:https://ulyssesrv.org/index.php/event/qld-woodford-showgrounds-advance-notice/
LOCATION:Qld Woodford Showgrounds\, 38 Neurum Road\, Woodford\, Queensland\, 4514\, Australia
CATEGORIES:Queensland
ATTACH;FMTTYPE=image/jpeg:https://ulyssesrv.org/wp-content/uploads/2025/09/Qld-Woodford-Showgrounds.jpg
ORGANIZER;CN="Queensland - Bevan & Therese":MAILTO:queensland@ulyssesrv.org
END:VEVENT
END:VCALENDAR