BEGIN:VCALENDAR
VERSION:2.0
PRODID:-//Ulysses Members RV Group - ECPv6.15.20//NONSGML v1.0//EN
CALSCALE:GREGORIAN
METHOD:PUBLISH
X-ORIGINAL-URL:https://ulyssesrv.org
X-WR-CALDESC:Events for Ulysses Members RV Group
REFRESH-INTERVAL;VALUE=DURATION:PT1H
X-Robots-Tag:noindex
X-PUBLISHED-TTL:PT1H
BEGIN:VTIMEZONE
TZID:Australia/Adelaide
BEGIN:STANDARD
TZOFFSETFROM:+1030
TZOFFSETTO:+0930
TZNAME:ACST
DTSTART:20250405T163000
END:STANDARD
BEGIN:DAYLIGHT
TZOFFSETFROM:+0930
TZOFFSETTO:+1030
TZNAME:ACDT
DTSTART:20251004T163000
END:DAYLIGHT
BEGIN:STANDARD
TZOFFSETFROM:+1030
TZOFFSETTO:+0930
TZNAME:ACST
DTSTART:20260404T163000
END:STANDARD
BEGIN:DAYLIGHT
TZOFFSETFROM:+0930
TZOFFSETTO:+1030
TZNAME:ACDT
DTSTART:20261003T163000
END:DAYLIGHT
BEGIN:STANDARD
TZOFFSETFROM:+1030
TZOFFSETTO:+0930
TZNAME:ACST
DTSTART:20270403T163000
END:STANDARD
BEGIN:DAYLIGHT
TZOFFSETFROM:+0930
TZOFFSETTO:+1030
TZNAME:ACDT
DTSTART:20271002T163000
END:DAYLIGHT
END:VTIMEZONE
BEGIN:VTIMEZONE
TZID:Australia/Sydney
BEGIN:STANDARD
TZOFFSETFROM:+1100
TZOFFSETTO:+1000
TZNAME:AEST
DTSTART:20250405T160000
END:STANDARD
BEGIN:DAYLIGHT
TZOFFSETFROM:+1000
TZOFFSETTO:+1100
TZNAME:AEDT
DTSTART:20251004T160000
END:DAYLIGHT
BEGIN:STANDARD
TZOFFSETFROM:+1100
TZOFFSETTO:+1000
TZNAME:AEST
DTSTART:20260404T160000
END:STANDARD
BEGIN:DAYLIGHT
TZOFFSETFROM:+1000
TZOFFSETTO:+1100
TZNAME:AEDT
DTSTART:20261003T160000
END:DAYLIGHT
BEGIN:STANDARD
TZOFFSETFROM:+1100
TZOFFSETTO:+1000
TZNAME:AEST
DTSTART:20270403T160000
END:STANDARD
BEGIN:DAYLIGHT
TZOFFSETFROM:+1000
TZOFFSETTO:+1100
TZNAME:AEDT
DTSTART:20271002T160000
END:DAYLIGHT
END:VTIMEZONE
BEGIN:VTIMEZONE
TZID:Australia/Brisbane
BEGIN:STANDARD
TZOFFSETFROM:+1000
TZOFFSETTO:+1000
TZNAME:AEST
DTSTART:20250101T000000
END:STANDARD
END:VTIMEZONE
BEGIN:VTIMEZONE
TZID:Australia/Hobart
BEGIN:STANDARD
TZOFFSETFROM:+1100
TZOFFSETTO:+1000
TZNAME:AEST
DTSTART:20250405T160000
END:STANDARD
BEGIN:DAYLIGHT
TZOFFSETFROM:+1000
TZOFFSETTO:+1100
TZNAME:AEDT
DTSTART:20251004T160000
END:DAYLIGHT
BEGIN:STANDARD
TZOFFSETFROM:+1100
TZOFFSETTO:+1000
TZNAME:AEST
DTSTART:20260404T160000
END:STANDARD
BEGIN:DAYLIGHT
TZOFFSETFROM:+1000
TZOFFSETTO:+1100
TZNAME:AEDT
DTSTART:20261003T160000
END:DAYLIGHT
BEGIN:STANDARD
TZOFFSETFROM:+1100
TZOFFSETTO:+1000
TZNAME:AEST
DTSTART:20270403T160000
END:STANDARD
BEGIN:DAYLIGHT
TZOFFSETFROM:+1000
TZOFFSETTO:+1100
TZNAME:AEDT
DTSTART:20271002T160000
END:DAYLIGHT
END:VTIMEZONE
BEGIN:VEVENT
DTSTART;VALUE=DATE:20260501
DTEND;VALUE=DATE:20260504
DTSTAMP:20260420T170648
CREATED:20251228T053108Z
LAST-MODIFIED:20251228T055740Z
UID:1350-1777593600-1777852799@ulyssesrv.org
SUMMARY:SA - Burra Caravan Park
DESCRIPTION:*Please note that this is run by the Ulysses SIG SARV Group . You\, or your partner must be a financial member of Ulysses to attend* \nMay 1st – 3rd Burra Caravan Park \n12 Bridge Terrace Phone: 0488 513 101  \nFriday evening BYO at the camp kitchen \nSaturday evening Burra Hotel 5 Market St\, Burra
URL:https://ulyssesrv.org/index.php/event/sa-burra-caravan-park/
LOCATION:SA Burra Caravan park\, 12 Bridge Terrace\, Burra\, South Australia\, 5417\, Australia
ATTACH;FMTTYPE=image/jpeg:https://ulyssesrv.org/wp-content/uploads/2025/12/SA-Burra-Caravan-Park.jpg
ORGANIZER;CN="Ulysses Club SARV":MAILTO:sarvulysses@gmail.com
END:VEVENT
BEGIN:VEVENT
DTSTART;VALUE=DATE:20260506
DTEND;VALUE=DATE:20260514
DTSTAMP:20260420T170648
CREATED:20251107T045227Z
LAST-MODIFIED:20251107T045453Z
UID:1292-1778025600-1778716799@ulyssesrv.org
SUMMARY:NSW - Autumn Rally  @ Gulargambone
DESCRIPTION:NSW Autumn rally is at the Gulargambone Caravan Park\, 17 Skuthorpe St. Gulargambone NSW\nPhone  02 6825 1666\n\n6th – 12th leaving on the 13th May 2026\n$38 p/n with a 7 day cancellation.\n\nCome and join us at Gulargambone with a large communal campfire to keep us warm and the offer of a $25 roast dinner from the owners. Ideal for those travelling onto the Ulysses National Rally at Nambour the following week.\nPet friendly.\nPlease mention Ulysses RV group when booking.
URL:https://ulyssesrv.org/index.php/event/nsw-autumn-rally-gulargambone/
LOCATION:NSW Gulargambone\, Gulargambone caravan Park 17 Skuthorpe St\, Gulargambone\, New South Wales\, 2828\, Australia
CATEGORIES:New South Wales
ATTACH;FMTTYPE=image/jpeg:https://ulyssesrv.org/wp-content/uploads/2025/11/NSW-Gulargambone-Caravan-Park.jpg
ORGANIZER;CN="New South Wales Coordinators":MAILTO:newsouthwales@ulyssesrv.org
END:VEVENT
BEGIN:VEVENT
DTSTART;VALUE=DATE:20260507
DTEND;VALUE=DATE:20260512
DTSTAMP:20260420T170648
CREATED:20260221T051832Z
LAST-MODIFIED:20260221T051832Z
UID:1463-1778112000-1778543999@ulyssesrv.org
SUMMARY:QLD – NRMA Woodgate Beach Holiday Park\, Woodgate
DESCRIPTION:7 May – 11 May 2026 – 4 nights \nNRMA Woodgate Beach Holiday Park\, \n88 Esplanade\, \nWoodgate   Qld  4660 \nNature meets the sea at NRMA Woodgate Beach Holiday Park where you can head out to the Southern Great Barrier Reef or relax into the easy-going atmosphere and enjoy quality time friends.
URL:https://ulyssesrv.org/index.php/event/qld-nrma-woodgate-beach-holiday-park-woodgate/
LOCATION:Qld – NRMA Woodgate Beach Holiday Park\, 88 Esplanade\, Woodgate\, Queenslnd\, 4660\, Australia
CATEGORIES:Queensland
ATTACH;FMTTYPE=image/jpeg:https://ulyssesrv.org/wp-content/uploads/2026/02/Qld-Woodgate-Caravan-Park.jpeg
ORGANIZER;CN="Queensland - Bevan & Therese":MAILTO:queensland@ulyssesrv.org
END:VEVENT
BEGIN:VEVENT
DTSTART;VALUE=DATE:20260521
DTEND;VALUE=DATE:20260524
DTSTAMP:20260420T170648
CREATED:20251231T002318Z
LAST-MODIFIED:20251231T002318Z
UID:1388-1779321600-1779580799@ulyssesrv.org
SUMMARY:Tas - Autumn Rally at Eugenana
DESCRIPTION:Our 2026 Autumn Rally will be at The Lakeside Tourist Caravan Park Eugenana. \n76 Lakeside Rd Eugenana \nThe park is in a very picturesque area of the North West Coast near Latrobe / Devonport and is on the site of an old quarry. It has a laid back country atmosphere and has a great bush walk track along an old railway bed heading towards Devonport and is also next door to the Tasmanian Arboretum which is well worth a look. \nThere are also great walks along river to spot a few platypus families. \nOur dates are Thursday 21st\, Friday 22nd and Saturday 23rd May but as always\, come earlier and/or stay later if you wish. \nWe have some sites put aside for us at the park\, so to reserve yours just ring 6427 2343 and tell them you are with the Ulysses RV Group and they will put us all close together. \nOn the Friday night at Prickly Mo the nearby vineyard\, there will be a night of live music\, food and drinks. \nIt is Bluesy foot-stomping style music and the vineyard is only 300 metres away so it’s easy walking. The winery opens at 12 noon that day\, serving fruit and cheese platters and the music will start about 6.30pm\, finishing about 9.30pm. \nA cover charge will be $5 which is to support the musician and a yummy Thai food truck will also be on site and starts cooking about 530pm. \nThe cellar door shed a real pearl\, being an old shearing shed converted into a real funky venue with rustic bush style interior. \nWe have some reserved seats inside the shed but you must let me know by the 13th May if you are coming so we can let them know how many to keep space for. This is important because it is not a big shed and the venue is popular with locals. \nMike Meyman \n0408 263 880
URL:https://ulyssesrv.org/index.php/event/tas-autumn-rally-at-eugenana/
LOCATION:Tas Eugenana\, Lakeside Tourist Caravan Park 76 Lakeside Rd\, Eugenana\, Tasmania\, 7310\, Australia
CATEGORIES:Tasmania
ATTACH;FMTTYPE=image/jpeg:https://ulyssesrv.org/wp-content/uploads/2025/12/Tas-Lakeside-Caravan-Park-Eugenana.jpg
ORGANIZER;CN="Tasmania":MAILTO:tasmania@ulyssesrv.org
END:VEVENT
END:VCALENDAR