BEGIN:VCALENDAR
VERSION:2.0
PRODID:-//Ulysses Members RV Group - ECPv6.15.20//NONSGML v1.0//EN
CALSCALE:GREGORIAN
METHOD:PUBLISH
X-ORIGINAL-URL:https://ulyssesrv.org
X-WR-CALDESC:Events for Ulysses Members RV Group
REFRESH-INTERVAL;VALUE=DURATION:PT1H
X-Robots-Tag:noindex
X-PUBLISHED-TTL:PT1H
BEGIN:VTIMEZONE
TZID:Australia/Melbourne
BEGIN:STANDARD
TZOFFSETFROM:+1100
TZOFFSETTO:+1000
TZNAME:AEST
DTSTART:20230401T160000
END:STANDARD
BEGIN:DAYLIGHT
TZOFFSETFROM:+1000
TZOFFSETTO:+1100
TZNAME:AEDT
DTSTART:20230930T160000
END:DAYLIGHT
BEGIN:STANDARD
TZOFFSETFROM:+1100
TZOFFSETTO:+1000
TZNAME:AEST
DTSTART:20240406T160000
END:STANDARD
BEGIN:DAYLIGHT
TZOFFSETFROM:+1000
TZOFFSETTO:+1100
TZNAME:AEDT
DTSTART:20241005T160000
END:DAYLIGHT
BEGIN:STANDARD
TZOFFSETFROM:+1100
TZOFFSETTO:+1000
TZNAME:AEST
DTSTART:20250405T160000
END:STANDARD
BEGIN:DAYLIGHT
TZOFFSETFROM:+1000
TZOFFSETTO:+1100
TZNAME:AEDT
DTSTART:20251004T160000
END:DAYLIGHT
BEGIN:STANDARD
TZOFFSETFROM:+1100
TZOFFSETTO:+1000
TZNAME:AEST
DTSTART:20260404T160000
END:STANDARD
BEGIN:DAYLIGHT
TZOFFSETFROM:+1000
TZOFFSETTO:+1100
TZNAME:AEDT
DTSTART:20261003T160000
END:DAYLIGHT
BEGIN:STANDARD
TZOFFSETFROM:+1100
TZOFFSETTO:+1000
TZNAME:AEST
DTSTART:20270403T160000
END:STANDARD
BEGIN:DAYLIGHT
TZOFFSETFROM:+1000
TZOFFSETTO:+1100
TZNAME:AEDT
DTSTART:20271002T160000
END:DAYLIGHT
END:VTIMEZONE
BEGIN:VTIMEZONE
TZID:Australia/Melbourne
BEGIN:STANDARD
TZOFFSETFROM:+1100
TZOFFSETTO:+1000
TZNAME:AEST
DTSTART:20240406T160000
END:STANDARD
BEGIN:DAYLIGHT
TZOFFSETFROM:+1000
TZOFFSETTO:+1100
TZNAME:AEDT
DTSTART:20241005T160000
END:DAYLIGHT
BEGIN:STANDARD
TZOFFSETFROM:+1100
TZOFFSETTO:+1000
TZNAME:AEST
DTSTART:20250405T160000
END:STANDARD
BEGIN:DAYLIGHT
TZOFFSETFROM:+1000
TZOFFSETTO:+1100
TZNAME:AEDT
DTSTART:20251004T160000
END:DAYLIGHT
BEGIN:STANDARD
TZOFFSETFROM:+1100
TZOFFSETTO:+1000
TZNAME:AEST
DTSTART:20260404T160000
END:STANDARD
BEGIN:DAYLIGHT
TZOFFSETFROM:+1000
TZOFFSETTO:+1100
TZNAME:AEDT
DTSTART:20261003T160000
END:DAYLIGHT
END:VTIMEZONE
BEGIN:VEVENT
DTSTART;VALUE=DATE:20260208
DTEND;VALUE=DATE:20260221
DTSTAMP:20260422T185458
CREATED:20251228T062538Z
LAST-MODIFIED:20251228T062928Z
UID:1379-1770508800-1771631999@ulyssesrv.org
SUMMARY:Vic - Eden Tag-Along
DESCRIPTION:Eden Tag-Along \nSun 8th Feb – Fri 20th Feb 2026 \nFirst night Free Camp at Rosedale under the bridge \nFor more info please email me and I will send you the caravan parks to book.
URL:https://ulyssesrv.org/index.php/event/vic-eden-tag-along/
LOCATION:Rosedale Free Camp\, Moloney Gr\, Rosedale\, Victoria\, 3847
CATEGORIES:Victoria
ATTACH;FMTTYPE=image/jpeg:https://ulyssesrv.org/wp-content/uploads/2025/12/Vic-Rosedale-Free-Camp.jpg
ORGANIZER;CN="Victoria":MAILTO:victoria@ulyssesrv.org
END:VEVENT
BEGIN:VEVENT
DTSTART;VALUE=DATE:20250827
DTEND;VALUE=DATE:20250905
DTSTAMP:20260422T185458
CREATED:20250602T092443Z
LAST-MODIFIED:20250602T092443Z
UID:1142-1756252800-1757030399@ulyssesrv.org
SUMMARY:Vic - Mildura Rally with Tag-along
DESCRIPTION:Mildura RV Rally August 2025 \nWe will meet at a free camp for our first night then continue on to Mildura. \nYou will need to be self-sufficient at the free camp as no toilets or water. \nWeather permitting\, we will have a fire that night. \nIn 27th August 2025 – Out 28th August 2025 \nGlenalbyn Forest Campground \nBrenanah-Glenalbyn Rd \nBrenanah\, VIC \nLat – 36° 32’ 3” S \nLng – 143° 44’ 34” E \nNext day you can get up as early / late as you wish to make your way to Mildura for the next 5 nights \nBuronga Riverside Caravan Park \n71A Caravan Park Rd \nBuronga  NSW  2739 \n03 5023 3040 \nArrive Thursday 28th Aug  2025 \nDepart Tues 2nd Sept 2025 \nPlease mention you are with the Ulysses RV Group when booking so they can put us together. \nPower sites $33.30 per night if you are a Discovery Park member and $37 per night for non members \nPet friendly park \nWe will then leave on Tuesday morning and head back home stopping at another free camp for our last night where weather permitting we will have a camp fire. \nSt Arnaud Recreation Reserve \nAlma Street \nSt Arnaud \nLat – 36° 36’ 46” S \nLng – 143° 15’ 43” E \nPlease let us know if you will be joining us on the Rally. \nJanice & Freddo \njanicekeyzer@gmail.com \n0407 841 019 \n(Please note that this event has been added whilst I’m travelling so is limited in information. Please contact the organiser for futher details. Thanks Webmaster)
URL:https://ulyssesrv.org/index.php/event/vic-mildura-rally-with-tag-along/
LOCATION:Vic Baronga Riverside Caravan Park Mildura\, 27a Caravan Park Road\, Baronga\, NSW\, 2739\, Australia
CATEGORIES:Victoria
ORGANIZER;CN="Victoria":MAILTO:victoria@ulyssesrv.org
END:VEVENT
BEGIN:VEVENT
DTSTART;VALUE=DATE:20250513
DTEND;VALUE=DATE:20250524
DTSTAMP:20260422T185458
CREATED:20250329T015213Z
LAST-MODIFIED:20250329T015213Z
UID:1100-1747094400-1748044799@ulyssesrv.org
SUMMARY:Vic - Autumn Tagalong  Rosedale to Cobram
DESCRIPTION:The Tag-Along\,  you will need to be fully self sufficient as we are doing free camps and caravan parks \nHere are the destinations that we will be going to \nRosedale – free camp 1 night (First night) \nCann River – free camp 1 night \nBredbo – free camp 1 night \nCanberra – caravan park 4 night  \nJugiong – free camp 1 night \nNarranderra – free camp 1 night \nCobram – caravan park last night \nIf you are a definite in joining us please reply by 4th April so we can book the caravan park in Canberra and Cobram. You will be given names of free camps and caravan parks on your first night at Rosedale. \nIf you have any questions\, please do not hesitate to contact me on 0407 841 019 or via return email. \nWe will be capping our numbers so please remember to get in early.  \nThis will be an adventure so please come with an open mind as due to time constraints we have not been able to pre-caravan this trip. If nothing else we should all have a good laugh along the way!!
URL:https://ulyssesrv.org/index.php/event/vic-autumn-tagalong-rosedale-to-cobram/
LOCATION:Willow Park Rosedale\, willow Park\, Rosedale\, Victoria\, 3847\, Australia
CATEGORIES:Victoria
ATTACH;FMTTYPE=image/jpeg:https://ulyssesrv.org/wp-content/uploads/2025/03/Rosedale-1.jpg
ORGANIZER;CN="Victoria":MAILTO:victoria@ulyssesrv.org
END:VEVENT
BEGIN:VEVENT
DTSTART;VALUE=DATE:20250220
DTEND;VALUE=DATE:20250227
DTSTAMP:20260422T185458
CREATED:20241122T055621Z
LAST-MODIFIED:20241122T055621Z
UID:993-1740009600-1740614399@ulyssesrv.org
SUMMARY:Vic - Bendigo Rally February 2025
DESCRIPTION:Bendigo RV Rally Feb 2025 \nGold Nugget Tourist Park \n293/297 Midland Hwy \nEpsom VIC 3551 \n03 5448 4747 \nArrive Thursday 20th Feb 2025 \nDepart Wed 26th Feb 2025 \nPower sites $45.00 less 10% disc per night for tourist members \nPet friendly park \nPlease mention you are with the Ulysses RV Group when booking so they can put us together. \nIf you could please let us know if you are coming for catering purposes that would be greatly appreciated\, thank you
URL:https://ulyssesrv.org/index.php/event/vic-bendigo-rally-february-2025/
LOCATION:Vic Golden Nuggett Carava Park Epsom\, 293 – 297 Midland Hwy\, Bendigo\, Victroria\, 3551
CATEGORIES:Victoria
ATTACH;FMTTYPE=image/jpeg:https://ulyssesrv.org/wp-content/uploads/2024/11/Vic-Bendigo-Golden-Nugget-Park.jpg
ORGANIZER;CN="Victoria":MAILTO:victoria@ulyssesrv.org
END:VEVENT
BEGIN:VEVENT
DTSTART;VALUE=DATE:20241121
DTEND;VALUE=DATE:20241127
DTSTAMP:20260422T185458
CREATED:20240918T062526Z
LAST-MODIFIED:20241027T214908Z
UID:897-1732147200-1732665599@ulyssesrv.org
SUMMARY:Vic - Bush Camp Weekend
DESCRIPTION:Green Hill Lake Reserve \nGreen Hills Lake Ararat \nGreen Hill Drive\nArarat  VIC\nSituated on the Western Highway\, just 4 km east of the picturesque Victorian township\nof Ararat\, Green Hill Lake has plenty on offer for locals\, campers and travellers alike.\nThere is drinking water available\, fire pits\, picnic tables\, chairs\, playground an exercise machine\, pontoon\, boat ramps\, RV dump point\, hot water wash up sink and hot water showers in the first toilet block. \n \nAs per usual we will have dinner out on the Saturday night for those interested\n\nHoping we can have a fire at night so we can have a sing along as well.\n\nIf you are interested in attending\, please let me know so I can book you in for the dinner.
URL:https://ulyssesrv.org/index.php/event/vic-bush-camp-weekend/
LOCATION:Green Hill Lake Reserve\, Ararat\, Green Hill Drive\, Ararat\, Victoria\, 3377\, Australia
CATEGORIES:Victoria
ATTACH;FMTTYPE=image/jpeg:https://ulyssesrv.org/wp-content/uploads/2024/09/Vic-Green-Hill-Lake-Ararat-1.jpg
ORGANIZER;CN="Victoria":MAILTO:victoria@ulyssesrv.org
END:VEVENT
BEGIN:VEVENT
DTSTART;VALUE=DATE:20241014
DTEND;VALUE=DATE:20241022
DTSTAMP:20260422T185458
CREATED:20240915T210236Z
LAST-MODIFIED:20240922T203653Z
UID:869-1728864000-1729555199@ulyssesrv.org
SUMMARY:National Rally - Yarrawonga (Bookings Now Closed)
DESCRIPTION:***Bookings Have Now Closed ***\nNATIONAL RALLY & AGM 2024 \nYarrawonga Holiday Park \n7 Burley Road\, Yarrawonga\, VIC 3730 \nPhone: 03 5744 3420 \nWebsite https://www.yarrawongaholidaypark.com.au/ \nPower sites $40.50 per night with AGM discount \nSlab Sites $45.45 per night with AGM discount \nPet friendly park \nYou must book your site at the caravan park for this National Rally directly with the Park. Registrations will open later where you can register and book activities \nPlease mention you are with the Ulysses RV Group when booking so they can put us together in our designated area and you will get the group discount. \nThe Programme…(Subject to change) \nMonday 14th October \nArrival today and settle in \n1pm Welcome packs can be collected from the area near the camp kitchen This will be done by states \n\n3pm Gordon will set up for collection of pre purchased shirts and jackets \n\n4pm Happy Hour & Welcome in the park area near camp kitchen. BYO Chairs \nTuesday 15th October \n8.30am FREE – Push bike ride with Steve and Margie Rae for those interested Capped at 20 bikes. This will be a social ride and will have a coffee stop along the way \n\n10am Residents from nursing home to come along to visit us and collect rugs. This will only be possible if no Covid restrictions are in place within the home. We will not be informed until a week before they are due to come. We will supply a morning tea for them \n\n1.30pm Tennis in the Park for those interested. BYO Tennis Racquets & Balls. $10 per hour for hard courts. $15 per hour for grass courts. Share with a friend or a few friends. Plenty of courts available \n\n4pm Happy hour on the grass area near camp kitchen. BYO chairs \nRaffle prizes to be collected and raffle tickets to be Sold (3 for $5) 2 x Major Prizes plus more to be won \n\n7pm Camp kitchen available for cards or games night \nWednesday 16th October \n9.30am Bare Foot Bowls – $20 per person This includes a light lunch\, dessert\, tea and coffee Bar will be open for those wishing to purchase a drink \nWe need to be in teams of 4 so we will take names on the Monday evening at Happy Hour for those going. Neat attire\, soft soled shoes or bare feet \n\n1-2pm Golf Clinic at the Yarrawonga Golf Club – Suitable for beginners $15 per head. Club Supplied. Capped at 60 people Come along and have a few lessons with a pro to see if you like Golf Neat attire\, soft soled shoes \n\n4pm Happy Hour on the grass near camp kitchen \n\n7.30pm Movie night at Yarrawonga Golf Club $15 per ticket\, capped at 60 people for private screening Movie will not be known until our numbers are in \nThursday 17th October \n10-12pm Ladies craft morning in the camp kitchen \n2 x crafts will be offered \nLillian will be holding a class for earring and capped at 12 people and must be pre-booked \nCost $15 Paid directly to Lillian on the day \nJanice will be doing a macramé project and capped at 12 people and must be pre-booked \nCost $15 Paid directly to Janice on the day \nOr you can just bring your own craft and have a chat and cuppa. \nIt would be lovely if we could have some plates of morning tea donated. \nTea\, Coffee\, sugar and milk supplied. BYO Mugs \n\n10-12pm FREE – Men’s Activity held at The Masonic Lodge\, 18 Piper St\, Yarrawonga Just a short walk from the caravan park We will supply morning tea. Please book using the registration form \n1st Speaker – SES will talk about their role and activities \n2nd Speaker – John\, Masonic Lodge \n\n6pm Pasta Night at The Mulwala RSL $30 per person 2 x different pastas served as an alternate and the same with dessert Tables of 10\, casual seating\, club shirts Raffle to be drawn Bus $5 per head to and from venue\, and must be pre-booked \nWill start to pick up at 5.15pm and do a shuttle to get us all there \nFriday 18th October \n3pm Market stalls near Happy Hour area for those wishing to sell their wares \n\n3pm Gordon to take orders for merchandise \n\n4pm Happy Hour \nSaturday 19th October \n9.30 – 11am National Rally Meeting \nThe Masonic Lodge Hall\, 18 Piper St\, Yarrawonga \n\n6pm Gala Dinner at Mulwala RSL Club $45 per head Theme 1920’s Ladies get your Headwear\, Gloves\, Beads and frilly dress ready Gentlemen get your braces\, hats\, dickie bow or tie ready and come along to what plans to be a fun filled evening \nDinner will be served as an alternate as will dessert Bar will be open\, tea and coffee will be supplied \nBus $5 per head to and from venue and must be pre-booked \nWill start to pick up at 5.15pm and do a shuttle to get us all there \nSunday 20th October \n8.30-10am Breakfast in the Park by The Lions Club Egg & bacon Roll $10 per roll Tea\, coffee\, sugar and milk will be supplied\, BYO Mugs BYO Chairs and sit near the camp kitchen\, must be pre-booked \n\n4pm Last Happy Hour \nMonday 21st October \nEveryone departs for their next adventure \nSee you all in Tasmania in 2025 \nThings to Do! \nSituated on the banks of the Murray River and Lake Mulwala. From golfing\, wineries\, museums and more\, there’s plenty of things to do. \nWine lovers unite! You will be spoilt for choice at Yarrawonga. Wineries include All Saints Estate\, Pfeiffer Wines\, Cofields\, Warrabilla Wines\, Campbells\, Stanton & Killeen and Bullers Winery. \nTry delicious locally made cheese from Boosey Creek Cheese farm and Bilsons Brewery at Beechworth. \nWe have a few activities planned but there will also be time to explore the area with your friends. \nMore information will be posted in the coming months but for now book your site and get ready to meet up with old and new friends at Yarrawonga.
URL:https://ulyssesrv.org/index.php/event/national-rally-yarrawonga/
LOCATION:Yarrawonga Holiday Park\, 7 Burley Road\, Yarrawonga\, VIC 3730\, 7 Burley Road\, Yarrawonga\, Victoria\, 3730\, Australia
CATEGORIES:National,Victoria
ATTACH;FMTTYPE=image/jpeg:https://ulyssesrv.org/wp-content/uploads/2024/09/Vic-Yarrawonga-1.jpg
ORGANIZER;CN="Victoria":MAILTO:victoria@ulyssesrv.org
END:VEVENT
END:VCALENDAR