BEGIN:VCALENDAR
VERSION:2.0
PRODID:-//Ulysses Members RV Group - ECPv6.15.20//NONSGML v1.0//EN
CALSCALE:GREGORIAN
METHOD:PUBLISH
X-ORIGINAL-URL:https://ulyssesrv.org
X-WR-CALDESC:Events for Ulysses Members RV Group
REFRESH-INTERVAL;VALUE=DURATION:PT1H
X-Robots-Tag:noindex
X-PUBLISHED-TTL:PT1H
BEGIN:VTIMEZONE
TZID:Australia/Hobart
BEGIN:STANDARD
TZOFFSETFROM:+1100
TZOFFSETTO:+1000
TZNAME:AEST
DTSTART:20250405T160000
END:STANDARD
BEGIN:DAYLIGHT
TZOFFSETFROM:+1000
TZOFFSETTO:+1100
TZNAME:AEDT
DTSTART:20251004T160000
END:DAYLIGHT
BEGIN:STANDARD
TZOFFSETFROM:+1100
TZOFFSETTO:+1000
TZNAME:AEST
DTSTART:20260404T160000
END:STANDARD
BEGIN:DAYLIGHT
TZOFFSETFROM:+1000
TZOFFSETTO:+1100
TZNAME:AEDT
DTSTART:20261003T160000
END:DAYLIGHT
BEGIN:STANDARD
TZOFFSETFROM:+1100
TZOFFSETTO:+1000
TZNAME:AEST
DTSTART:20270403T160000
END:STANDARD
BEGIN:DAYLIGHT
TZOFFSETFROM:+1000
TZOFFSETTO:+1100
TZNAME:AEDT
DTSTART:20271002T160000
END:DAYLIGHT
END:VTIMEZONE
BEGIN:VEVENT
DTSTART;VALUE=DATE:20260130
DTEND;VALUE=DATE:20260201
DTSTAMP:20260423T090458
CREATED:20251227T202154Z
LAST-MODIFIED:20251228T055817Z
UID:1337-1769731200-1769903999@ulyssesrv.org
SUMMARY:Tas - Summer Rally  Moulting Bay
DESCRIPTION:Summer Rally – Friday 30th & Saturday 31st January 2026 \nFree camping at Tuckers Arm Campground\, Moulting Bay on the east coast. No power and water. \nTo get there\, drive from St Helens towards Binalong Bay and at the top of the hill\, turn right and down to the campground. \nDownload  location map here \nIt’s a quiet bush campground with plenty of good space\, close to the bay\, good drop toilets\, fishing\, swimming\, kayaking and bush walks. \nBYO all food and drink\, stocking up at St Helens on the way through. \nPlease let Mike know (on 0408 263 880) you will be coming. \n 
URL:https://ulyssesrv.org/index.php/event/tas-summer-rally-moulting-bay/
LOCATION:Tas Tuckers Arm Campground\, P79M+V3\, St Helens\, Tasmania\, 7216\, Australia
CATEGORIES:Tasmania
ATTACH;FMTTYPE=image/jpeg:https://ulyssesrv.org/wp-content/uploads/2025/12/Tas-Tuckers-Arm-Campground-scaled.jpg
END:VEVENT
END:VCALENDAR