BEGIN:VCALENDAR
VERSION:2.0
PRODID:-//Ulysses Members RV Group - ECPv6.15.20//NONSGML v1.0//EN
CALSCALE:GREGORIAN
METHOD:PUBLISH
X-ORIGINAL-URL:https://ulyssesrv.org
X-WR-CALDESC:Events for Ulysses Members RV Group
REFRESH-INTERVAL;VALUE=DURATION:PT1H
X-Robots-Tag:noindex
X-PUBLISHED-TTL:PT1H
BEGIN:VTIMEZONE
TZID:Australia/Hobart
BEGIN:STANDARD
TZOFFSETFROM:+1100
TZOFFSETTO:+1000
TZNAME:AEST
DTSTART:20240406T160000
END:STANDARD
BEGIN:DAYLIGHT
TZOFFSETFROM:+1000
TZOFFSETTO:+1100
TZNAME:AEDT
DTSTART:20241005T160000
END:DAYLIGHT
BEGIN:STANDARD
TZOFFSETFROM:+1100
TZOFFSETTO:+1000
TZNAME:AEST
DTSTART:20250405T160000
END:STANDARD
BEGIN:DAYLIGHT
TZOFFSETFROM:+1000
TZOFFSETTO:+1100
TZNAME:AEDT
DTSTART:20251004T160000
END:DAYLIGHT
BEGIN:STANDARD
TZOFFSETFROM:+1100
TZOFFSETTO:+1000
TZNAME:AEST
DTSTART:20260404T160000
END:STANDARD
BEGIN:DAYLIGHT
TZOFFSETFROM:+1000
TZOFFSETTO:+1100
TZNAME:AEDT
DTSTART:20261003T160000
END:DAYLIGHT
BEGIN:STANDARD
TZOFFSETFROM:+1100
TZOFFSETTO:+1000
TZNAME:AEST
DTSTART:20270403T160000
END:STANDARD
BEGIN:DAYLIGHT
TZOFFSETFROM:+1000
TZOFFSETTO:+1100
TZNAME:AEDT
DTSTART:20271002T160000
END:DAYLIGHT
END:VTIMEZONE
BEGIN:VEVENT
DTSTART;VALUE=DATE:20251211
DTEND;VALUE=DATE:20251214
DTSTAMP:20260423T103654
CREATED:20251023T224029Z
LAST-MODIFIED:20251107T045804Z
UID:1270-1765411200-1765670399@ulyssesrv.org
SUMMARY:TAS - Tarraleah Estate
DESCRIPTION:Tarraleah Caravan Park\, Tarraleah Village 📅 11–13 December 2025 \nAs the year winds down\, join us for a relaxed gathering to reconnect\, reflect\, and share stories before the festive season begins. This is a chance to enjoy good company\, fresh mountain air\, and a few memorable moments together. \nThe caravan park manager has reserved all the Powered Sites for this rally. If you are interested in attending\, please make your booking ASAP as there will be a cutoff point on these reserved sites. When you have made your booking\, please SMS Gary Rush on 0400140010 with your name and the number of people attending. I also require numbers for the Saturday night meal booking. \n🥘 Saturday Night Meal \nWe’ll gather at the Highland Arms Tavern for a shared meal. Please note: the menu may be limited depending on our numbers. \n🚐 Caravan Park Details \n\n14 powered sites available\, plus a non-powered area\nPowered sites $40.00 per night\, unpowered $20.00 per night\nMost powered sites are bordered by vegetation for added privacy\nModern showers\, toilets\, and a communal BBQ area\nDogs are welcome but must sleep in your vehicle or van — check the park’s website for full details\nDrinking water should be boiled before use — bringing your own supply is recommended\n\n\nDuring the day\, Teez Café\, located right next to the caravan park\, offers food and drink options.\n\n\nThere is no dump point on-site; the nearest is in Hamilton\n\n🌿 Optional Activities \n\nWalk to Tarraleah Falls — keep an eye out for Lyrebirds along the track\nBring your bike to ride around the village or enter the Bike descent challenge — test your speed down to the power stations (optional\, but bragging rights are on the line!)\n\n📞 Booking & Contact Details \nFor bookings contact the Tarraleah Estate: 📱 0415 037 886 or 📧 info@tarraleah.com. Mention that you are with the Tas Ulysses RV Group. \nFor more information\, contact: Gary – 0400 140 010 or Mike
URL:https://ulyssesrv.org/index.php/event/1270/
LOCATION:Tas – Tarraleah Estate
CATEGORIES:Tasmania
ATTACH;FMTTYPE=image/jpeg:https://ulyssesrv.org/wp-content/uploads/2025/10/Tas-Tarraleah-Estate.jpg
ORGANIZER;CN="Tasmania":MAILTO:tasmania@ulyssesrv.org
END:VEVENT
BEGIN:VEVENT
DTSTART;VALUE=DATE:20251231
DTEND;VALUE=DATE:20260102
DTSTAMP:20260423T103654
CREATED:20251219T053906Z
LAST-MODIFIED:20251228T055850Z
UID:1331-1767139200-1767311999@ulyssesrv.org
SUMMARY:TAS -New Years Eve at St Marys
DESCRIPTION:New Years Eve at St Marys Tasmania \nOvernight Wednesday 31st December and Thursday 1st January. \nFree camping at St Marys Camp Ground – Harefield Rd St Marys \nThe St Marys pacing Club will be hosting their only race meeting for the year on Thursday the 1st of January. \nYou might not be into horse racing at all\, but come for the experience. It’s a real country horse race day and something different where 20 or 30 caravaners etc normally attend the event. \nBookmakers will be available if you are feeling lucky and see a good looking nag. The bar will be open\, there will be a kiosk and various food venues\, raffles\, ‘fashion on the field’ competitions\, live music\, lucky program draw. As well as the major raffle\, a golf hole in one golf completion is on so bring a few clubs. \nThe camp grounds are in good order\, have a toilet block with $2 hot showers and a dump point. \nOn Wednesday night the Golf Club Bar will be open and they will have light snack foods and finger foods available.  The St Marys hotel will also be open for nightly meals on both nights. \nPlease let Mike know on 0408 263 660\, you will be attending and he can coordinate an area for us to camp together.
URL:https://ulyssesrv.org/index.php/event/tas-new-years-eve-at-st-marys/
LOCATION:St Marys campground\, St Marys Tas\, Harfield Road\, St Marys\, Tas\, 7215\, Australia
CATEGORIES:Tasmania
ATTACH;FMTTYPE=image/jpeg:https://ulyssesrv.org/wp-content/uploads/2025/12/Tas-St-Marys-scaled.jpg
ORGANIZER;CN="Tasmania":MAILTO:tasmania@ulyssesrv.org
END:VEVENT
END:VCALENDAR