BEGIN:VCALENDAR
VERSION:2.0
PRODID:-//Ulysses Members RV Group - ECPv6.15.20//NONSGML v1.0//EN
CALSCALE:GREGORIAN
METHOD:PUBLISH
X-ORIGINAL-URL:https://ulyssesrv.org
X-WR-CALDESC:Events for Ulysses Members RV Group
REFRESH-INTERVAL;VALUE=DURATION:PT1H
X-Robots-Tag:noindex
X-PUBLISHED-TTL:PT1H
BEGIN:VTIMEZONE
TZID:Australia/Melbourne
BEGIN:STANDARD
TZOFFSETFROM:+1100
TZOFFSETTO:+1000
TZNAME:AEST
DTSTART:20240406T160000
END:STANDARD
BEGIN:DAYLIGHT
TZOFFSETFROM:+1000
TZOFFSETTO:+1100
TZNAME:AEDT
DTSTART:20241005T160000
END:DAYLIGHT
BEGIN:STANDARD
TZOFFSETFROM:+1100
TZOFFSETTO:+1000
TZNAME:AEST
DTSTART:20250405T160000
END:STANDARD
BEGIN:DAYLIGHT
TZOFFSETFROM:+1000
TZOFFSETTO:+1100
TZNAME:AEDT
DTSTART:20251004T160000
END:DAYLIGHT
BEGIN:STANDARD
TZOFFSETFROM:+1100
TZOFFSETTO:+1000
TZNAME:AEST
DTSTART:20260404T160000
END:STANDARD
BEGIN:DAYLIGHT
TZOFFSETFROM:+1000
TZOFFSETTO:+1100
TZNAME:AEDT
DTSTART:20261003T160000
END:DAYLIGHT
END:VTIMEZONE
BEGIN:VEVENT
DTSTART;VALUE=DATE:20251112
DTEND;VALUE=DATE:20251120
DTSTAMP:20260423T062920
CREATED:20250602T091304Z
LAST-MODIFIED:20250602T091304Z
UID:1136-1762905600-1763596799@ulyssesrv.org
SUMMARY:NSW - November Spring Rally Narromine
DESCRIPTION:NSW November Spring Rally\n12th – 19th November 2025\nNarromine Aerodrome Tourist Park\n4108 Mitchell Hwy Narromine (near airport)\nPh. 0466 330 653\n\nCost is $245 for the week\nCome and join us for our spring rally at Narromine. A small town 30kms west of Dubbo.\nVery neat caravan park. Lots of good grassy sites\, swimming pool\, Aero club next door. Cafe and pubs. Town within walking distance.\nDon’t forget to mention you are with the Ulysses RV group when booking as they are keeping the whole park just for us.\nSee You There\n\n(Webmaster apologies for the lack of detail and spelling mistakes\, this is being created whilst travelling in the UK!)
URL:https://ulyssesrv.org/index.php/event/nsw-november-spring-rally-narromine/
LOCATION:NSW – Narromine Aerodrome Toursit Park\, 4108 Mitchell Highway\, Narromine\, NSW\, Australia
CATEGORIES:New South Wales
ORGANIZER;CN="New South Wales Coordinators":MAILTO:newsouthwales@ulyssesrv.org
END:VEVENT
END:VCALENDAR