BEGIN:VCALENDAR
VERSION:2.0
PRODID:-//Ulysses Members RV Group - ECPv6.15.20//NONSGML v1.0//EN
CALSCALE:GREGORIAN
METHOD:PUBLISH
X-ORIGINAL-URL:https://ulyssesrv.org
X-WR-CALDESC:Events for Ulysses Members RV Group
REFRESH-INTERVAL;VALUE=DURATION:PT1H
X-Robots-Tag:noindex
X-PUBLISHED-TTL:PT1H
BEGIN:VTIMEZONE
TZID:Australia/Sydney
BEGIN:STANDARD
TZOFFSETFROM:+1100
TZOFFSETTO:+1000
TZNAME:AEST
DTSTART:20240406T160000
END:STANDARD
BEGIN:DAYLIGHT
TZOFFSETFROM:+1000
TZOFFSETTO:+1100
TZNAME:AEDT
DTSTART:20241005T160000
END:DAYLIGHT
BEGIN:STANDARD
TZOFFSETFROM:+1100
TZOFFSETTO:+1000
TZNAME:AEST
DTSTART:20250405T160000
END:STANDARD
BEGIN:DAYLIGHT
TZOFFSETFROM:+1000
TZOFFSETTO:+1100
TZNAME:AEDT
DTSTART:20251004T160000
END:DAYLIGHT
BEGIN:STANDARD
TZOFFSETFROM:+1100
TZOFFSETTO:+1000
TZNAME:AEST
DTSTART:20260404T160000
END:STANDARD
BEGIN:DAYLIGHT
TZOFFSETFROM:+1000
TZOFFSETTO:+1100
TZNAME:AEDT
DTSTART:20261003T160000
END:DAYLIGHT
END:VTIMEZONE
BEGIN:VEVENT
DTSTART;VALUE=DATE:20250514
DTEND;VALUE=DATE:20250522
DTSTAMP:20260423T161903
CREATED:20241119T213506Z
LAST-MODIFIED:20250127T054905Z
UID:988-1747180800-1747871999@ulyssesrv.org
SUMMARY:NSW - Spring Rally Inverell
DESCRIPTION:Inverell Caravan Park \n21 Glen Innes Rd. Inverell\nPhone 02 6722 3036\nWhen : 14th – 21st May 2025\nCost : $40 p/n \, $36 with Kui Parks discount.\nCome and join us for our Autumn Rally at Inverell\, The Sapphire City.\nPlenty of things to see and do in the area.\n\nInverell Pioneer Village\nNational Transport Museum\nVicta Museum\nDozens of cafes and eateries\nWalks along the river\nInverell Sporties club just a short stroll away.\nThe caravan park has a newly renovated camp kitchen and communal firepit.\n \nAs usual tell them you are with Ulysses RV group when you book to try to get us all together.
URL:https://ulyssesrv.org/index.php/event/nsw-spring-rally-inverell/
LOCATION:NSW – Inverell Caravan Park\, 21 Glen Innes Rd\, Inverell\, NSW\, 2360\, Australia
CATEGORIES:New South Wales
ATTACH;FMTTYPE=image/jpeg:https://ulyssesrv.org/wp-content/uploads/2024/11/NSW-Inverell-Caravan-Park.jpg
ORGANIZER;CN="New South Wales Coordinators":MAILTO:newsouthwales@ulyssesrv.org
END:VEVENT
END:VCALENDAR