BEGIN:VCALENDAR
VERSION:2.0
PRODID:-//Ulysses Members RV Group - ECPv6.15.20//NONSGML v1.0//EN
CALSCALE:GREGORIAN
METHOD:PUBLISH
X-WR-CALNAME:Ulysses Members RV Group
X-ORIGINAL-URL:https://ulyssesrv.org
X-WR-CALDESC:Events for Ulysses Members RV Group
REFRESH-INTERVAL;VALUE=DURATION:PT1H
X-Robots-Tag:noindex
X-PUBLISHED-TTL:PT1H
BEGIN:VTIMEZONE
TZID:Australia/Sydney
BEGIN:STANDARD
TZOFFSETFROM:+1100
TZOFFSETTO:+1000
TZNAME:AEST
DTSTART:20250405T160000
END:STANDARD
BEGIN:DAYLIGHT
TZOFFSETFROM:+1000
TZOFFSETTO:+1100
TZNAME:AEDT
DTSTART:20251004T160000
END:DAYLIGHT
BEGIN:STANDARD
TZOFFSETFROM:+1100
TZOFFSETTO:+1000
TZNAME:AEST
DTSTART:20260404T160000
END:STANDARD
BEGIN:DAYLIGHT
TZOFFSETFROM:+1000
TZOFFSETTO:+1100
TZNAME:AEDT
DTSTART:20261003T160000
END:DAYLIGHT
BEGIN:STANDARD
TZOFFSETFROM:+1100
TZOFFSETTO:+1000
TZNAME:AEST
DTSTART:20270403T160000
END:STANDARD
BEGIN:DAYLIGHT
TZOFFSETFROM:+1000
TZOFFSETTO:+1100
TZNAME:AEDT
DTSTART:20271002T160000
END:DAYLIGHT
END:VTIMEZONE
BEGIN:VEVENT
DTSTART;VALUE=DATE:20260308
DTEND;VALUE=DATE:20260316
DTSTAMP:20260422T215404
CREATED:20250918T073222Z
LAST-MODIFIED:20251228T063621Z
UID:1261-1772928000-1773619199@ulyssesrv.org
SUMMARY:NSW - Birthday Bash  North Haven Holiday Park
DESCRIPTION:Due to popular acceptance over the past 4 years\, the group’s 19th Birthday Bash will occur at Reflections North Haven Holiday Park from 8-15 March 2026.\nThis will be more “back to basics” than recent national rallies\, but as usual there will be meals at nearby pubs or clubs\, barefoot bowls\, games afternoons\, a bush drive\, and there are numerous local attractions including wineries and Hastings River cruises. And Saturday night is our BBQ and music night with our own Dusty and friends.\nAnd Reflections are still dog-friendly!\nDespite fee increases\, we’ve negotiated to regain our previous 20% discount\, so average prices (depending on how many weekend days you have booked) will be: Grass or Single Slabs – $47.31 and Double Slabs – $57.21 providing you are staying 7 days. If not\, you will pay 10% more\, or $52.71 and $63.51 respectively.\nAnd yes\, they do have cabins as well.  Call them for pricing!\nTo secure your site\, please confirm & pay your deposit by ringing Sharron\, Cathy or Natalie on 02 6559 9193\, and tell them you are with the Ulysses RV Group\, and quote Master Reservation No 1616754. If you don’t\, you won’t get the discount!\n\nHope to see you all there\, and don’t forget to bring something along for the raffle (no more than $20)
URL:https://ulyssesrv.org/index.php/event/nsw-birthday-bash-north-haven/
LOCATION:Reflections North Haven Caravan Park\, 109 The Parade\, North Haven\, NSW\, 2443\, Australia
CATEGORIES:National,New South Wales
ATTACH;FMTTYPE=image/jpeg:https://ulyssesrv.org/wp-content/uploads/2024/09/NSW-Reflections-North-Haven.jpg
ORGANIZER;CN="National Coordinators":MAILTO:admin@ulyssesrv.org
END:VEVENT
END:VCALENDAR