BEGIN:VCALENDAR
VERSION:2.0
PRODID:-//Ulysses Members RV Group - ECPv6.15.20//NONSGML v1.0//EN
CALSCALE:GREGORIAN
METHOD:PUBLISH
X-WR-CALNAME:Ulysses Members RV Group
X-ORIGINAL-URL:https://ulyssesrv.org
X-WR-CALDESC:Events for Ulysses Members RV Group
REFRESH-INTERVAL;VALUE=DURATION:PT1H
X-Robots-Tag:noindex
X-PUBLISHED-TTL:PT1H
BEGIN:VTIMEZONE
TZID:Australia/Sydney
BEGIN:STANDARD
TZOFFSETFROM:+1100
TZOFFSETTO:+1000
TZNAME:AEST
DTSTART:20240406T160000
END:STANDARD
BEGIN:DAYLIGHT
TZOFFSETFROM:+1000
TZOFFSETTO:+1100
TZNAME:AEDT
DTSTART:20241005T160000
END:DAYLIGHT
BEGIN:STANDARD
TZOFFSETFROM:+1100
TZOFFSETTO:+1000
TZNAME:AEST
DTSTART:20250405T160000
END:STANDARD
BEGIN:DAYLIGHT
TZOFFSETFROM:+1000
TZOFFSETTO:+1100
TZNAME:AEDT
DTSTART:20251004T160000
END:DAYLIGHT
BEGIN:STANDARD
TZOFFSETFROM:+1100
TZOFFSETTO:+1000
TZNAME:AEST
DTSTART:20260404T160000
END:STANDARD
BEGIN:DAYLIGHT
TZOFFSETFROM:+1000
TZOFFSETTO:+1100
TZNAME:AEDT
DTSTART:20261003T160000
END:DAYLIGHT
END:VTIMEZONE
BEGIN:VEVENT
DTSTART;VALUE=DATE:20250309
DTEND;VALUE=DATE:20250317
DTSTAMP:20260423T174001
CREATED:20240915T210321Z
LAST-MODIFIED:20250127T010938Z
UID:866-1741478400-1742169599@ulyssesrv.org
SUMMARY:NSW - 18th Birthday Bash  North Haven Caravan Park
DESCRIPTION:Our 18th Birthday Bash will be at sunny North Haven (NSW) as it has for the past 3 years. \nWhen/where is it? Sunday 9th to 16rd March 2025 @ Reflections North Haven Holiday Park (near the beachfront).  If you join their Outsider Loyalty Club you get 15% off your bookings! \nReflections Member Caravan Club \n45 sites have been reserved\, but you should book in sooner rather than later! \nWe’ll have our traditional group meal outing or two at the club/s (with courtesy buses)\, and the usual Saturday BBQ night\, with salads supplied at no cost to you. \nTo book your powered site ring Natalie\, Lisa\, Bonnie or Craig on 02 6559 9193 and pay your deposit. If you book for 7 days or more you get the most attractive rate (10% for group plus 10% for 7 days). \nIf you book less than 7 days you lose the 2nd 10% discount. \nAnd they have cabins too!  Call them for pricing. \n*** MAKE SURE YOU TELL THEM YOU ARE WITH THE ULYSSES RV GROUP\, AND QUOTE Master Res Number: 1479142! *** \nCancellations: Deposits will be credited – no refund on deposits. \nFull-week payments will be refunded less the deposit\, or credited in total. \nNote: Credits can be used at ANY of the 40 Reflections Holiday Parks in Oz! \n*** Don’t forget to bring something along for the raffle! *** \nBob & Marilyn\, Vince & Del\, Lawrie & Vicki \nNational Coordinators
URL:https://ulyssesrv.org/index.php/event/nsw-18th-birthday-bash-north-haven-caravan-park/
LOCATION:Reflections North Haven Caravan Park\, 109 The Parade\, North Haven\, NSW\, 2443\, Australia
CATEGORIES:National,New South Wales
ORGANIZER;CN="National Coordinators":MAILTO:admin@ulyssesrv.org
END:VEVENT
END:VCALENDAR