BEGIN:VCALENDAR
VERSION:2.0
PRODID:-//Ulysses Members RV Group - ECPv6.15.20//NONSGML v1.0//EN
CALSCALE:GREGORIAN
METHOD:PUBLISH
X-ORIGINAL-URL:https://ulyssesrv.org
X-WR-CALDESC:Events for Ulysses Members RV Group
REFRESH-INTERVAL;VALUE=DURATION:PT1H
X-Robots-Tag:noindex
X-PUBLISHED-TTL:PT1H
BEGIN:VTIMEZONE
TZID:Australia/Melbourne
BEGIN:STANDARD
TZOFFSETFROM:+1100
TZOFFSETTO:+1000
TZNAME:AEST
DTSTART:20230401T160000
END:STANDARD
BEGIN:DAYLIGHT
TZOFFSETFROM:+1000
TZOFFSETTO:+1100
TZNAME:AEDT
DTSTART:20230930T160000
END:DAYLIGHT
BEGIN:STANDARD
TZOFFSETFROM:+1100
TZOFFSETTO:+1000
TZNAME:AEST
DTSTART:20240406T160000
END:STANDARD
BEGIN:DAYLIGHT
TZOFFSETFROM:+1000
TZOFFSETTO:+1100
TZNAME:AEDT
DTSTART:20241005T160000
END:DAYLIGHT
BEGIN:STANDARD
TZOFFSETFROM:+1100
TZOFFSETTO:+1000
TZNAME:AEST
DTSTART:20250405T160000
END:STANDARD
BEGIN:DAYLIGHT
TZOFFSETFROM:+1000
TZOFFSETTO:+1100
TZNAME:AEDT
DTSTART:20251004T160000
END:DAYLIGHT
END:VTIMEZONE
BEGIN:VEVENT
DTSTART;VALUE=DATE:20241113
DTEND;VALUE=DATE:20241119
DTSTAMP:20260424T011124
CREATED:20240918T062224Z
LAST-MODIFIED:20240918T071514Z
UID:891-1731456000-1731974399@ulyssesrv.org
SUMMARY:NSW - Bucketts Way Camp 'n Stay
DESCRIPTION:Bush camping week!\n13th – 18th Nov. 5 days only\nat Buckett’s Way Camp n Stay\n47 The Buckett’s Way\n12 Mile Creek NSW 2324 a\n2 hrs Nth of Sydney\nNo power\, water available (at cost)\nPets welcome. Dump point.\n\nHuge camp kitchen\, huge communal campfire\, plus you can have your own ‘off the ground’\nToilets and hot showers($1 for 4 mins)\n$30pn.\nTo Book contact  Brad 0402859669  or Carolyn 0402537466\nOr via email stay@buckettswaycns.com.au (preferred)
URL:https://ulyssesrv.org/index.php/event/nsw-bucketts-way-camp-n-stay/
LOCATION:Buckett’s Way Camp n Stay 47 The Buckett’s Way 12 Mile Creek NSW 2324\, 47 The Buckett's Way\, 12 Mile Creek\, NSW\, 2324\, Australia
CATEGORIES:New South Wales
ATTACH;FMTTYPE=image/jpeg:https://ulyssesrv.org/wp-content/uploads/2024/09/NSW-Bucketts-Way-1.jpg
ORGANIZER;CN="New South Wales Coordinators":MAILTO:newsouthwales@ulyssesrv.org
END:VEVENT
END:VCALENDAR