BEGIN:VCALENDAR
VERSION:2.0
PRODID:-//Ulysses Members RV Group - ECPv6.15.20//NONSGML v1.0//EN
CALSCALE:GREGORIAN
METHOD:PUBLISH
X-WR-CALNAME:Ulysses Members RV Group
X-ORIGINAL-URL:https://ulyssesrv.org
X-WR-CALDESC:Events for Ulysses Members RV Group
REFRESH-INTERVAL;VALUE=DURATION:PT1H
X-Robots-Tag:noindex
X-PUBLISHED-TTL:PT1H
BEGIN:VTIMEZONE
TZID:Australia/Brisbane
BEGIN:STANDARD
TZOFFSETFROM:+1000
TZOFFSETTO:+1000
TZNAME:AEST
DTSTART:20250101T000000
END:STANDARD
END:VTIMEZONE
BEGIN:VTIMEZONE
TZID:Australia/Sydney
BEGIN:STANDARD
TZOFFSETFROM:+1100
TZOFFSETTO:+1000
TZNAME:AEST
DTSTART:20250405T160000
END:STANDARD
BEGIN:DAYLIGHT
TZOFFSETFROM:+1000
TZOFFSETTO:+1100
TZNAME:AEDT
DTSTART:20251004T160000
END:DAYLIGHT
BEGIN:STANDARD
TZOFFSETFROM:+1100
TZOFFSETTO:+1000
TZNAME:AEST
DTSTART:20260404T160000
END:STANDARD
BEGIN:DAYLIGHT
TZOFFSETFROM:+1000
TZOFFSETTO:+1100
TZNAME:AEDT
DTSTART:20261003T160000
END:DAYLIGHT
BEGIN:STANDARD
TZOFFSETFROM:+1100
TZOFFSETTO:+1000
TZNAME:AEST
DTSTART:20270403T160000
END:STANDARD
BEGIN:DAYLIGHT
TZOFFSETFROM:+1000
TZOFFSETTO:+1100
TZNAME:AEDT
DTSTART:20271002T160000
END:DAYLIGHT
END:VTIMEZONE
BEGIN:VEVENT
DTSTART;VALUE=DATE:20260805
DTEND;VALUE=DATE:20260813
DTSTAMP:20260423T141356
CREATED:20250918T072231Z
LAST-MODIFIED:20260222T013508Z
UID:1253-1785888000-1786579199@ulyssesrv.org
SUMMARY:QLD - Christmas in August  3 Part Rally!
DESCRIPTION:“Christmas in August” \nChristmas in August – 11 nights \nPart A: 2 nights\, 05 & 6th August 2026 \nWooroolin Wetlands Rest Area\, \n——— \nPART B: 3 nights\, 07 – 09th August 2026 \nBait Layers Campoven Grounds\, \nBallogie via KINGAROY \n——— \nPART C: 2 nights\, 10 & 11th August 2026 \nJandowae Showgrounds \nWarra Street\, Jandowae  Qld
URL:https://ulyssesrv.org/index.php/event/qld-christmas-in-august-3-part-rally-advance-details/
LOCATION:Qld Wooroolin Wetlands Rest Area\, -26.084690419848894\, 152.23672760245498\, Wooroolin\, Queensland\, 4608\, Australia
CATEGORIES:Queensland
ATTACH;FMTTYPE=image/jpeg:https://ulyssesrv.org/wp-content/uploads/2025/09/Qld-Wooroolin-Wetlands-Rest-Area.jpg
ORGANIZER;CN="Queensland - Bevan & Therese":MAILTO:queensland@ulyssesrv.org
END:VEVENT
BEGIN:VEVENT
DTSTART;VALUE=DATE:20260812
DTEND;VALUE=DATE:20260820
DTSTAMP:20260423T141356
CREATED:20260322T204439Z
LAST-MODIFIED:20260322T204439Z
UID:1487-1786492800-1787183999@ulyssesrv.org
SUMMARY:NSW - Winter Rally Bellingen River Tourist Park
DESCRIPTION:NSW Winter Rally will be held 12th – 19th August at the Bellingen River Tourist Park\n\n96 Mylestom Dr\, Repton  NSW 2454\nph. (02) 6655 4755\n \nThe price is $45 grassed site\n$50 riverfront site\npet friendly\noff the ground firepits on site are allowed\n\nRiver Tourist Park is located at \n96 Mylestom Dr\, Repton  NSW 2454\n\nph. (02) 6655 4755 for Bookings\n \nThe price is $45 grassed site\n$50 riverfront site\npet friendly\noff the ground firepits on site are allowed\n\nkayaking and fishing recommended.\nBreak the winter blues with a week away by the river
URL:https://ulyssesrv.org/index.php/event/nsw-winter-rally-bellingen-river-tourist-park/
LOCATION:NSW Bellingen River Tourist Park\, 96 Mylestom Dr\,\, Repton  \, NSW\, 2454\, Australia
CATEGORIES:New South Wales
ATTACH;FMTTYPE=image/jpeg:https://ulyssesrv.org/wp-content/uploads/2026/03/NSW-Bellingen-River-Tourist-Park.jpg
ORGANIZER;CN="New South Wales Coordinators":MAILTO:newsouthwales@ulyssesrv.org
END:VEVENT
END:VCALENDAR