BEGIN:VCALENDAR
VERSION:2.0
PRODID:-//Ulysses Members RV Group - ECPv6.15.20//NONSGML v1.0//EN
CALSCALE:GREGORIAN
METHOD:PUBLISH
X-WR-CALNAME:Ulysses Members RV Group
X-ORIGINAL-URL:https://ulyssesrv.org
X-WR-CALDESC:Events for Ulysses Members RV Group
REFRESH-INTERVAL;VALUE=DURATION:PT1H
X-Robots-Tag:noindex
X-PUBLISHED-TTL:PT1H
BEGIN:VTIMEZONE
TZID:Australia/Sydney
BEGIN:STANDARD
TZOFFSETFROM:+1100
TZOFFSETTO:+1000
TZNAME:AEST
DTSTART:20250405T160000
END:STANDARD
BEGIN:DAYLIGHT
TZOFFSETFROM:+1000
TZOFFSETTO:+1100
TZNAME:AEDT
DTSTART:20251004T160000
END:DAYLIGHT
BEGIN:STANDARD
TZOFFSETFROM:+1100
TZOFFSETTO:+1000
TZNAME:AEST
DTSTART:20260404T160000
END:STANDARD
BEGIN:DAYLIGHT
TZOFFSETFROM:+1000
TZOFFSETTO:+1100
TZNAME:AEDT
DTSTART:20261003T160000
END:DAYLIGHT
BEGIN:STANDARD
TZOFFSETFROM:+1100
TZOFFSETTO:+1000
TZNAME:AEST
DTSTART:20270403T160000
END:STANDARD
BEGIN:DAYLIGHT
TZOFFSETFROM:+1000
TZOFFSETTO:+1100
TZNAME:AEDT
DTSTART:20271002T160000
END:DAYLIGHT
END:VTIMEZONE
BEGIN:VEVENT
DTSTART;VALUE=DATE:20260506
DTEND;VALUE=DATE:20260514
DTSTAMP:20260422T184753
CREATED:20251107T045227Z
LAST-MODIFIED:20251107T045453Z
UID:1292-1778025600-1778716799@ulyssesrv.org
SUMMARY:NSW - Autumn Rally  @ Gulargambone
DESCRIPTION:NSW Autumn rally is at the Gulargambone Caravan Park\, 17 Skuthorpe St. Gulargambone NSW\nPhone  02 6825 1666\n\n6th – 12th leaving on the 13th May 2026\n$38 p/n with a 7 day cancellation.\n\nCome and join us at Gulargambone with a large communal campfire to keep us warm and the offer of a $25 roast dinner from the owners. Ideal for those travelling onto the Ulysses National Rally at Nambour the following week.\nPet friendly.\nPlease mention Ulysses RV group when booking.
URL:https://ulyssesrv.org/index.php/event/nsw-autumn-rally-gulargambone/
LOCATION:NSW Gulargambone\, Gulargambone caravan Park 17 Skuthorpe St\, Gulargambone\, New South Wales\, 2828\, Australia
CATEGORIES:New South Wales
ATTACH;FMTTYPE=image/jpeg:https://ulyssesrv.org/wp-content/uploads/2025/11/NSW-Gulargambone-Caravan-Park.jpg
ORGANIZER;CN="New South Wales Coordinators":MAILTO:newsouthwales@ulyssesrv.org
END:VEVENT
END:VCALENDAR