BEGIN:VCALENDAR
VERSION:2.0
PRODID:-//Ulysses Members RV Group - ECPv6.15.20//NONSGML v1.0//EN
CALSCALE:GREGORIAN
METHOD:PUBLISH
X-ORIGINAL-URL:https://ulyssesrv.org
X-WR-CALDESC:Events for Ulysses Members RV Group
REFRESH-INTERVAL;VALUE=DURATION:PT1H
X-Robots-Tag:noindex
X-PUBLISHED-TTL:PT1H
BEGIN:VTIMEZONE
TZID:Australia/Melbourne
BEGIN:STANDARD
TZOFFSETFROM:+1100
TZOFFSETTO:+1000
TZNAME:AEST
DTSTART:20250405T160000
END:STANDARD
BEGIN:DAYLIGHT
TZOFFSETFROM:+1000
TZOFFSETTO:+1100
TZNAME:AEDT
DTSTART:20251004T160000
END:DAYLIGHT
BEGIN:STANDARD
TZOFFSETFROM:+1100
TZOFFSETTO:+1000
TZNAME:AEST
DTSTART:20260404T160000
END:STANDARD
BEGIN:DAYLIGHT
TZOFFSETFROM:+1000
TZOFFSETTO:+1100
TZNAME:AEDT
DTSTART:20261003T160000
END:DAYLIGHT
BEGIN:STANDARD
TZOFFSETFROM:+1100
TZOFFSETTO:+1000
TZNAME:AEST
DTSTART:20270403T160000
END:STANDARD
BEGIN:DAYLIGHT
TZOFFSETFROM:+1000
TZOFFSETTO:+1100
TZNAME:AEDT
DTSTART:20271002T160000
END:DAYLIGHT
END:VTIMEZONE
BEGIN:VTIMEZONE
TZID:Australia/Melbourne
BEGIN:STANDARD
TZOFFSETFROM:+1100
TZOFFSETTO:+1000
TZNAME:AEST
DTSTART:20250405T160000
END:STANDARD
BEGIN:DAYLIGHT
TZOFFSETFROM:+1000
TZOFFSETTO:+1100
TZNAME:AEDT
DTSTART:20251004T160000
END:DAYLIGHT
BEGIN:STANDARD
TZOFFSETFROM:+1100
TZOFFSETTO:+1000
TZNAME:AEST
DTSTART:20260404T160000
END:STANDARD
BEGIN:DAYLIGHT
TZOFFSETFROM:+1000
TZOFFSETTO:+1100
TZNAME:AEDT
DTSTART:20261003T160000
END:DAYLIGHT
BEGIN:STANDARD
TZOFFSETFROM:+1100
TZOFFSETTO:+1000
TZNAME:AEST
DTSTART:20270403T160000
END:STANDARD
BEGIN:DAYLIGHT
TZOFFSETFROM:+1000
TZOFFSETTO:+1100
TZNAME:AEDT
DTSTART:20271002T160000
END:DAYLIGHT
END:VTIMEZONE
BEGIN:VEVENT
DTSTART;VALUE=DATE:20260208
DTEND;VALUE=DATE:20260221
DTSTAMP:20260422T201440
CREATED:20251228T062538Z
LAST-MODIFIED:20251228T062928Z
UID:1379-1770508800-1771631999@ulyssesrv.org
SUMMARY:Vic - Eden Tag-Along
DESCRIPTION:Eden Tag-Along \nSun 8th Feb – Fri 20th Feb 2026 \nFirst night Free Camp at Rosedale under the bridge \nFor more info please email me and I will send you the caravan parks to book.
URL:https://ulyssesrv.org/index.php/event/vic-eden-tag-along/
LOCATION:Rosedale Free Camp\, Moloney Gr\, Rosedale\, Victoria\, 3847
CATEGORIES:Victoria
ATTACH;FMTTYPE=image/jpeg:https://ulyssesrv.org/wp-content/uploads/2025/12/Vic-Rosedale-Free-Camp.jpg
ORGANIZER;CN="Victoria":MAILTO:victoria@ulyssesrv.org
END:VEVENT
BEGIN:VEVENT
DTSTART;VALUE=DATE:20260211
DTEND;VALUE=DATE:20260219
DTSTAMP:20260422T201440
CREATED:20250821T065842Z
LAST-MODIFIED:20250821T065842Z
UID:1182-1770768000-1771459199@ulyssesrv.org
SUMMARY:NSW - Summer Rally  Culburra Beach
DESCRIPTION:Our NSW February Summer Rally will be held at……\nCulburra Caravan Park\n2A Prince Edward Ave.\nCulburra Beach\n02 4429 5405\n\nFeb 11th – 18th  2026\n$49.50 p/n Seniors rate\nThey are having a pets allowed trial atm. We will advise later if that is permanent.\n\nRevisiting Culburra as everyone enjoyed it last time. The park has access to the beach\, great fishing\, pool and mini golf.\nSee you there
URL:https://ulyssesrv.org/index.php/event/nsw-summer-rally-culburra-beach/
LOCATION:NSW  Culburra Beach\, 2A Prince Edward Ave.\, Culburra Beach\, New South Wales\, 2540\, Australia
CATEGORIES:New South Wales
ATTACH;FMTTYPE=image/jpeg:https://ulyssesrv.org/wp-content/uploads/2025/08/NSW-Culburra-Beach-1.jpeg
ORGANIZER;CN="New South Wales Coordinators":MAILTO:newsouthwales@ulyssesrv.org
END:VEVENT
END:VCALENDAR